BEGIN:VCALENDAR
VERSION:2.0
PRODID:-//Drive Electric Minnesota - ECPv6.1.2.2//NONSGML v1.0//EN
CALSCALE:GREGORIAN
METHOD:PUBLISH
X-ORIGINAL-URL:https://driveelectricmn.org
X-WR-CALDESC:Events for Drive Electric Minnesota
REFRESH-INTERVAL;VALUE=DURATION:PT1H
X-Robots-Tag:noindex
X-PUBLISHED-TTL:PT1H
BEGIN:VTIMEZONE
TZID:America/Chicago
BEGIN:DAYLIGHT
TZOFFSETFROM:-0600
TZOFFSETTO:-0500
TZNAME:CDT
DTSTART:20260308T080000
END:DAYLIGHT
BEGIN:STANDARD
TZOFFSETFROM:-0500
TZOFFSETTO:-0600
TZNAME:CST
DTSTART:20261101T070000
END:STANDARD
END:VTIMEZONE
BEGIN:VEVENT
DTSTART;TZID=America/Chicago:20260426T130000
DTEND;TZID=America/Chicago:20260426T160000
DTSTAMP:20260419T113300
CREATED:20260409T145625Z
LAST-MODIFIED:20260414T151848Z
UID:10000160-1777208400-1777219200@driveelectricmn.org
SUMMARY:Morningside Edina Earth Day Community Festival 2026
DESCRIPTION:The Edina Morningside Neighborhood Association will host the return of the Earth Day Community Festival\, a celebration of sustainability and local action. \nThis zero-waste event is designed to bring the community together through a mix of environmental education and family-friendly entertainment. Attendees can enjoy a wide variety of activities\, including: \n\nEco-Friendly Activities: Free yoga sessions\, pollinator garden displays\, and insights into native plants and growing food. An electric showroom will feature electric vehicles\, e-bikes\, e-scooters\, and zero-emission yard tools.\nFamily Fun: Live music\, games\, face painting\, and local food trucks.\nClimate Resources: Expert information on environmental action and sustainability from organizations such as Project Earth\, Citizens’ Climate Lobby\, Elders Climate Action\, and MN Solar.\n\nThe festival is a collaborative effort supported by numerous local organizations.
URL:https://driveelectricmn.org/events/morningside-edina-earth-day-community-festival-2026/
LOCATION:Weber Park\, 4151 Grimes Avenue South\, Edina\, MN\, 55416
CATEGORIES:Festival,Showcase
END:VEVENT
END:VCALENDAR