BEGIN:VCALENDAR
VERSION:2.0
PRODID:-//Drive Electric Minnesota - ECPv6.1.2.2//NONSGML v1.0//EN
CALSCALE:GREGORIAN
METHOD:PUBLISH
X-WR-CALNAME:Drive Electric Minnesota
X-ORIGINAL-URL:https://driveelectricmn.org
X-WR-CALDESC:Events for Drive Electric Minnesota
REFRESH-INTERVAL;VALUE=DURATION:PT1H
X-Robots-Tag:noindex
X-PUBLISHED-TTL:PT1H
BEGIN:VTIMEZONE
TZID:America/Chicago
BEGIN:DAYLIGHT
TZOFFSETFROM:-0600
TZOFFSETTO:-0500
TZNAME:CDT
DTSTART:20260308T080000
END:DAYLIGHT
BEGIN:STANDARD
TZOFFSETFROM:-0500
TZOFFSETTO:-0600
TZNAME:CST
DTSTART:20261101T070000
END:STANDARD
END:VTIMEZONE
BEGIN:VEVENT
DTSTART;TZID=America/Chicago:20260425T090000
DTEND;TZID=America/Chicago:20260425T130000
DTSTAMP:20260419T094624
CREATED:20260305T183141Z
LAST-MODIFIED:20260305T191153Z
UID:10000100-1777107600-1777122000@driveelectricmn.org
SUMMARY:2026 City of Oakdale Eco Fair and Clothing Swap
DESCRIPTION:Join Drive Electric Minnesota at the second annual City of Oakdale Eco Fair and Clothing Swap on April 25! \nThe event will provide the Oakdale and broader community with valuable information on a wide range of environmental topics and initiatives. The event includes vendors and exhibitors\, a clothing swap\, family-friendly activities\, and a food truck. \nLearn more at www.oakdalemn.gov/1018/Eco-Fair.
URL:https://driveelectricmn.org/events/2026-city-of-oakdale-eco-fair-and-clothing-swap/
LOCATION:Castle Elementary School\, 6675 50th Street N\, Oakdale\, MN\, 55128\, United States
CATEGORIES:Festival
END:VEVENT
END:VCALENDAR