BEGIN:VCALENDAR
VERSION:2.0
PRODID:-//Drive Electric Minnesota - ECPv6.1.2.2//NONSGML v1.0//EN
CALSCALE:GREGORIAN
METHOD:PUBLISH
X-WR-CALNAME:Drive Electric Minnesota
X-ORIGINAL-URL:https://driveelectricmn.org
X-WR-CALDESC:Events for Drive Electric Minnesota
REFRESH-INTERVAL;VALUE=DURATION:PT1H
X-Robots-Tag:noindex
X-PUBLISHED-TTL:PT1H
BEGIN:VTIMEZONE
TZID:America/Chicago
BEGIN:DAYLIGHT
TZOFFSETFROM:-0600
TZOFFSETTO:-0500
TZNAME:CDT
DTSTART:20260308T080000
END:DAYLIGHT
BEGIN:STANDARD
TZOFFSETFROM:-0500
TZOFFSETTO:-0600
TZNAME:CST
DTSTART:20261101T070000
END:STANDARD
END:VTIMEZONE
BEGIN:VEVENT
DTSTART;TZID=America/Chicago:20260425T090000
DTEND;TZID=America/Chicago:20260425T130000
DTSTAMP:20260419T083014
CREATED:20260305T183141Z
LAST-MODIFIED:20260305T191153Z
UID:10000100-1777107600-1777122000@driveelectricmn.org
SUMMARY:2026 City of Oakdale Eco Fair and Clothing Swap
DESCRIPTION:Join Drive Electric Minnesota at the second annual City of Oakdale Eco Fair and Clothing Swap on April 25! \nThe event will provide the Oakdale and broader community with valuable information on a wide range of environmental topics and initiatives. The event includes vendors and exhibitors\, a clothing swap\, family-friendly activities\, and a food truck. \nLearn more at www.oakdalemn.gov/1018/Eco-Fair.
URL:https://driveelectricmn.org/events/2026-city-of-oakdale-eco-fair-and-clothing-swap/
LOCATION:Castle Elementary School\, 6675 50th Street N\, Oakdale\, MN\, 55128\, United States
CATEGORIES:Festival
END:VEVENT
BEGIN:VEVENT
DTSTART;TZID=America/Chicago:20260421T130000
DTEND;TZID=America/Chicago:20260421T140000
DTSTAMP:20260419T083014
CREATED:20260414T120855Z
LAST-MODIFIED:20260414T150149Z
UID:10000163-1776776400-1776780000@driveelectricmn.org
SUMMARY:Introduction to Charging Smart: How Local Governments Can Foster Electric Vehicle Deployment Webinar
DESCRIPTION:Be part of an introductory webinar on April 21\, 2026\, at 1:00 p.m. CT to learn about Energy Ready’s Charging Smart technical assistance and national designation program. The Great Plains Institute\, facilitator of Drive Electric Minnesota\, is a founding partner of Charging Smart. \nLocal jurisdictions play a critical role in shaping the policies\, processes\, and programs that support the deployment of electric vehicle (EV) charging infrastructure. By streamlining installation and permitting\, local governments can expand access to EV charging for residents\, businesses\, and visitors alike. \nThis session will provide an overview of the Charging Smart program and how it can support local EV readiness efforts. Attendees will hear from program staff at the Interstate Renewable Energy Council\, along with community spotlights and insights from a local government representative in a Charging Smart–designated community. \nLearn more and register via Zoom.
URL:https://driveelectricmn.org/events/introduction-to-charging-smart-how-local-governments-can-foster-electric-vehicle-deployment-webinar/
LOCATION:Zoom
CATEGORIES:Webinar
END:VEVENT
BEGIN:VEVENT
DTSTART;TZID=America/Chicago:20260418T130000
DTEND;TZID=America/Chicago:20260418T160000
DTSTAMP:20260419T083014
CREATED:20260407T210902Z
LAST-MODIFIED:20260407T210902Z
UID:10000157-1776517200-1776528000@driveelectricmn.org
SUMMARY:2026 Eagan Earth Day Celebration
DESCRIPTION:Join Drive Electric Minnesota at the 2026 Eagan Earth Day Celebration! We’ll be answering your electric vehicle questions with lots of great resources. \nLearn more about the event on Eventbrite.
URL:https://driveelectricmn.org/events/2026-eagan-earth-day-celebration/
LOCATION:Blackhawk Park\, 1629 Murphy Parkway\, Eagan\, MN\, 55122\, United States
CATEGORIES:Celebration,Festival
ORGANIZER;CN="Sustainable%20Eagan":MAILTO:sustainability@eaganmn.gov
END:VEVENT
BEGIN:VEVENT
DTSTART;TZID=America/Chicago:20260418T100000
DTEND;TZID=America/Chicago:20260418T170000
DTSTAMP:20260419T083014
CREATED:20260304T221842Z
LAST-MODIFIED:20260407T142545Z
UID:10000099-1776506400-1776531600@driveelectricmn.org
SUMMARY:2026 Eden Prairie EcoExpo
DESCRIPTION:Join Drive Electric Minnesota member\, Minnesota Clean Cities Coalition\, at this year’s Eden Prairie EcoExpo! The Eco Expo is your one-stop destination for eco-friendly fun and learning. \nTake your time in the beautiful Eden Prairie Center Mall Center Court exploring the EV showcase where dealerships will display electric vehicles and talking to local EV owners about their experiences of driving and charging in Minnesota. Kick the tires\, pick up the latest EV info list\, talk to a utility expert\, or just grab the handout on working with your utility to prepare for charging at home. \nExplore 20+ booths packed with sustainable products and services\, try your hand at seed planting with Master Gardeners\, and meet adorable animals like goats and rescue puppies. Kids and families can enjoy games\, experiments\, and eco-themed activities\, while learning about pollinators and sustainable living from local experts. \nWhether you’re here to shop\, play\, or get inspired\, the Eco Fair offers something for everyone to connect with nature and make a positive impact on the planet! \nThe Eden Prairie Eco Expo is hosted by the Eden Prairie AM Rotary Club.
URL:https://driveelectricmn.org/events/2026-eden-prairie-ecoexpo/
LOCATION:Eden Prairie Center\, 8251 Flying Cloud Dr\, Eden Prairie\, MN\, 55344\, United States
CATEGORIES:Expo
END:VEVENT
BEGIN:VEVENT
DTSTART;TZID=America/Chicago:20260414T130000
DTEND;TZID=America/Chicago:20260414T163000
DTSTAMP:20260419T083014
CREATED:20260414T150913Z
LAST-MODIFIED:20260414T150913Z
UID:10000159-1776171600-1776184200@driveelectricmn.org
SUMMARY:Inaugural Minnesota Automated Vehicle Day at the Capitol
DESCRIPTION:The future of mobility has arrived in Minnesota\, and you’re invited to see it firsthand at the first-ever Minnesota Automated Vehicle (AV) Day at the Capitol on Tuesday\, April 14\, 2026! \nHosted by Drive Electric Minnesota member\, the Minnesota Department of Transportation (MnDOT)\, in partnership with Stantec and Partners for Automated Vehicles (PAVE)\, the event will include: \n\nInteractive exhibits\, vehicles\, and AV technology displays\nNetworking opportunities with AV stakeholders and public sector officials\nTable talks on a variety of AV topics\, including safety\, workforce development\, first responder engagement\, and more\n\nLearn more at https://pavecampaign.org/mn-av-day/.
URL:https://driveelectricmn.org/events/inaugural-minnesota-automated-vehicle-day-at-the-capitol/
LOCATION:Minnesota State Capital\, 75 Rev Dr Martin Luther King Jr Boulevard\, St Paul\, MN\, 55155
CATEGORIES:Showcase
END:VEVENT
BEGIN:VEVENT
DTSTART;TZID=America/Chicago:20260414T080000
DTEND;TZID=America/Chicago:20260414T170000
DTSTAMP:20260419T083014
CREATED:20260414T122322Z
LAST-MODIFIED:20260414T150417Z
UID:10000164-1776153600-1776186000@driveelectricmn.org
SUMMARY:Eco Fair on Summit 2026
DESCRIPTION:Join a coalition of nonprofits for this free\, family-friendly event! Enjoy great food while exploring a wide range of sustainability topics—from e-bikes and pollinator gardens to electric vehicles and solar energy. \nThe event will include an electric vehicle showcase and test drive opportunities with local dealers\, as well as insights from Minnesota EV owners sharing their real-world experiences. Be sure to visit the test-drive area\, hosted by Drive Electric Minnesota member the Minnesota Clean Cities Coalition\, with support from Xcel Energy and partners. \nLearn more at https://www.mnipl.org/eco-fair-on-summit/.
URL:https://driveelectricmn.org/events/eco-fair-on-summit-2026/
LOCATION:House of Hope Presbyterian Church\, 797 Summit Avenue\, St. Paul\, MN\, 55105
CATEGORIES:Summit
END:VEVENT
END:VCALENDAR